BEGIN:VCALENDAR
VERSION:2.0
PRODID:-//www.arcnbc.org//NONSGML kigkonsult.se iCalcreator 2.30.10//
CALSCALE:GREGORIAN
METHOD:PUBLISH
UID:7c23c59c-41fa-4865-a931-8dfaac998d09
X-WR-CALDESC:This is a chance for moms to get together and vent\, brainstor
 m\, gather.  This will be held weekly for all you amazing moms out there.
X-WR-RELCALID:7032dfdc9222487c349ebb0bafefcbd8
X-WR-TIMEZONE:America/New_York
BEGIN:VTIMEZONE
TZID:America/New_York
BEGIN:STANDARD
TZNAME:EST
DTSTART:20201101T020000
TZOFFSETFROM:-0400
TZOFFSETTO:-0500
RDATE:20211107T020000
END:STANDARD
BEGIN:DAYLIGHT
TZNAME:EDT
DTSTART:20210314T020000
TZOFFSETFROM:-0500
TZOFFSETTO:-0400
RDATE:20220313T020000
END:DAYLIGHT
END:VTIMEZONE
BEGIN:VEVENT
UID:9131aa77-a704-4b9c-b15d-97200875741d
DTSTAMP:20260423T084109Z
DESCRIPTION:This is a chance for moms to get together and vent\, brainstorm
 \, gather.  This will be held weekly for all you amazing moms out there.
DTSTART;TZID=America/New_York:20210405T190000
DTEND;TZID=America/New_York:20210405T200000
LOCATION:Zoom Meetings
SUMMARY:Mom's Support Group
END:VEVENT
END:VCALENDAR
