BEGIN:VCALENDAR
VERSION:2.0
PRODID:-//www.arcnbc.org//NONSGML kigkonsult.se iCalcreator 2.30.10//
CALSCALE:GREGORIAN
METHOD:PUBLISH
UID:286bcadb-3aff-4787-86a5-45126e1a2c14
X-WR-CALDESC:This is your chance to make your own Comic Hero.  Get together
  on Tuesday afternoon with friends and let your imagination run free.
X-WR-RELCALID:78063a3e7b5a65acb0eb8a9b316e14a0
X-WR-TIMEZONE:America/New_York
BEGIN:VTIMEZONE
TZID:America/New_York
BEGIN:STANDARD
TZNAME:EST
DTSTART:20201101T020000
TZOFFSETFROM:-0400
TZOFFSETTO:-0500
RDATE:20211107T020000
END:STANDARD
BEGIN:DAYLIGHT
TZNAME:EDT
DTSTART:20210314T020000
TZOFFSETFROM:-0500
TZOFFSETTO:-0400
RDATE:20220313T020000
END:DAYLIGHT
END:VTIMEZONE
BEGIN:VEVENT
UID:05c5e808-f61a-422f-8d2b-208b0d71b5c2
DTSTAMP:20260423T084216Z
DESCRIPTION:This is your chance to make your own Comic Hero.  Get together 
 on Tuesday afternoon with friends and let your imagination run free.
DTSTART;TZID=America/New_York:20210406T150000
DTEND;TZID=America/New_York:20210406T160000
LOCATION:Zoom Meeting
SUMMARY:Create Your Own Comic Book
END:VEVENT
END:VCALENDAR
