BEGIN:VCALENDAR
VERSION:2.0
PRODID:-//www.arcnbc.org//NONSGML kigkonsult.se iCalcreator 2.30.10//
CALSCALE:GREGORIAN
METHOD:PUBLISH
UID:0aa12729-a589-41e0-90d3-bb53ceaef3c8
X-WR-CALDESC:A chance to get together with friends and test your skills.
X-WR-RELCALID:da5a4579dc9a48b1c52ced791ccff06f
X-WR-TIMEZONE:America/New_York
BEGIN:VTIMEZONE
TZID:America/New_York
BEGIN:STANDARD
TZNAME:EST
DTSTART:20201101T020000
TZOFFSETFROM:-0400
TZOFFSETTO:-0500
RDATE:20211107T020000
END:STANDARD
BEGIN:DAYLIGHT
TZNAME:EDT
DTSTART:20210314T020000
TZOFFSETFROM:-0500
TZOFFSETTO:-0400
RDATE:20220313T020000
END:DAYLIGHT
END:VTIMEZONE
BEGIN:VEVENT
UID:5acef6b9-808b-48a9-bbad-350885756d4e
DTSTAMP:20260423T084251Z
DESCRIPTION:A chance to get together with friends and test your skills.
DTSTART;TZID=America/New_York:20210412T143000
DTEND;TZID=America/New_York:20210412T153000
LOCATION:Zoom Meeting
SUMMARY:Trivia 18+
END:VEVENT
END:VCALENDAR
