BEGIN:VCALENDAR
VERSION:2.0
PRODID:-//www.arcnbc.org//NONSGML kigkonsult.se iCalcreator 2.30.10//
CALSCALE:GREGORIAN
METHOD:PUBLISH
UID:1f56c1e5-f2ec-4a48-baa4-d9bbe61ac08f
X-WR-CALDESC:Your favorite Drums Alive class virtually!! \nDrums Alive® is 
 a movement-based fitness program that allows all participants to engage at
  their level: from novice to expert drummer.
X-WR-RELCALID:839f6423041157af9ff29261523f93b2
X-WR-TIMEZONE:America/New_York
BEGIN:VTIMEZONE
TZID:America/New_York
BEGIN:STANDARD
TZNAME:EST
DTSTART:20201101T020000
TZOFFSETFROM:-0400
TZOFFSETTO:-0500
RDATE:20211107T020000
END:STANDARD
BEGIN:DAYLIGHT
TZNAME:EDT
DTSTART:20210314T020000
TZOFFSETFROM:-0500
TZOFFSETTO:-0400
RDATE:20220313T020000
END:DAYLIGHT
END:VTIMEZONE
BEGIN:VEVENT
UID:f08b8c39-10ee-49f0-8098-e08dff723fe8
DTSTAMP:20260423T084534Z
DESCRIPTION:Your favorite Drums Alive class virtually!! \nDrums Alive® is a
  movement-based fitness program that allows all participants to engage at 
 their level: from novice to expert drummer.
DTSTART;TZID=America/New_York:20210415T160000
DTEND;TZID=America/New_York:20210415T170000
LOCATION:Zoom Meetings
SUMMARY:Drums Alive (All ages)
END:VEVENT
END:VCALENDAR
