BEGIN:VCALENDAR
VERSION:2.0
PRODID:-//www.arcnbc.org//NONSGML kigkonsult.se iCalcreator 2.30.10//
CALSCALE:GREGORIAN
METHOD:PUBLISH
UID:4949f941-c1f2-4daa-81d9-177deb6159bf
X-WR-CALDESC:A night of swimming and dinner.  This is a cost free event.
X-WR-RELCALID:dbf43b778439094e9ce714ed34bb3612
X-WR-TIMEZONE:America/New_York
BEGIN:VTIMEZONE
TZID:America/New_York
BEGIN:STANDARD
TZNAME:EST
DTSTART:20201101T020000
TZOFFSETFROM:-0400
TZOFFSETTO:-0500
RDATE:20211107T020000
END:STANDARD
BEGIN:DAYLIGHT
TZNAME:EDT
DTSTART:20210314T020000
TZOFFSETFROM:-0500
TZOFFSETTO:-0400
RDATE:20220313T020000
END:DAYLIGHT
END:VTIMEZONE
BEGIN:VEVENT
UID:d9a433b3-56c8-4c86-9aab-f85c242d68b5
DTSTAMP:20260423T084132Z
DESCRIPTION:A night of swimming and dinner.  This is a cost free event.
DTSTART;TZID=America/New_York:20210416T190000
DTEND;TZID=America/New_York:20210416T210000
LOCATION:Pleasant St. YMCA in Attleboro
SUMMARY:Go night @ YMCA
END:VEVENT
END:VCALENDAR
