BEGIN:VCALENDAR
VERSION:2.0
PRODID:-//www.arcnbc.org//NONSGML kigkonsult.se iCalcreator 2.30.10//
CALSCALE:GREGORIAN
METHOD:PUBLISH
UID:6db9fd2d-8cef-46eb-9e39-232a2322c96a
X-WR-CALDESC:Get together with friends and go on a hunt to find some intere
 sting treasure.  This group is for our 6-12 year old in Family Supports.
X-WR-RELCALID:b5d5c534721cc9c15d55582edba41bd7
X-WR-TIMEZONE:America/New_York
BEGIN:VTIMEZONE
TZID:America/New_York
BEGIN:STANDARD
TZNAME:EST
DTSTART:20201101T020000
TZOFFSETFROM:-0400
TZOFFSETTO:-0500
RDATE:20211107T020000
END:STANDARD
BEGIN:DAYLIGHT
TZNAME:EDT
DTSTART:20210314T020000
TZOFFSETFROM:-0500
TZOFFSETTO:-0400
RDATE:20220313T020000
END:DAYLIGHT
END:VTIMEZONE
BEGIN:VEVENT
UID:7b4a02c9-ae64-4e5e-98a6-7a456261806d
DTSTAMP:20260423T084546Z
DESCRIPTION:Get together with friends and go on a hunt to find some interes
 ting treasure.  This group is for our 6-12 year old in Family Supports.
DTSTART;TZID=America/New_York:20210421T140000
DTEND;TZID=America/New_York:20210421T150000
LOCATION:Zoom Meetings
SUMMARY:Scavenger Hunt (Ages 6-12)
END:VEVENT
END:VCALENDAR
