BEGIN:VCALENDAR
VERSION:2.0
PRODID:-//www.arcnbc.org//NONSGML kigkonsult.se iCalcreator 2.30.10//
CALSCALE:GREGORIAN
METHOD:PUBLISH
UID:cbacc86d-a119-4ef4-ae61-abeabf74929e
X-WR-CALDESC:Get together with friends and complete challenges weekly.  Don
 't forget to get your bingo cards.  There is 25 challenges to complete wee
 kly.
X-WR-RELCALID:fef4cbad4a91f65a7901b5ebd8e8c959
X-WR-TIMEZONE:America/New_York
BEGIN:VTIMEZONE
TZID:America/New_York
BEGIN:STANDARD
TZNAME:EST
DTSTART:20201101T020000
TZOFFSETFROM:-0400
TZOFFSETTO:-0500
RDATE:20211107T020000
END:STANDARD
BEGIN:DAYLIGHT
TZNAME:EDT
DTSTART:20210314T020000
TZOFFSETFROM:-0500
TZOFFSETTO:-0400
RDATE:20220313T020000
END:DAYLIGHT
END:VTIMEZONE
BEGIN:VEVENT
UID:e49ebea4-5779-4fc1-b6c5-0c07fe7099c9
DTSTAMP:20260423T084342Z
DESCRIPTION:Get together with friends and complete challenges weekly.  Don'
 t forget to get your bingo cards.  There is 25 challenges to complete week
 ly.
DTSTART;TZID=America/New_York:20210428T160000
DTEND;TZID=America/New_York:20210428T170000
LOCATION:Zoom Meeting
SUMMARY:Bingo Challenge 18+
END:VEVENT
END:VCALENDAR
