BEGIN:VCALENDAR
VERSION:2.0
PRODID:-//www.arcnbc.org//NONSGML kigkonsult.se iCalcreator 2.30.10//
CALSCALE:GREGORIAN
METHOD:PUBLISH
UID:60a81d62-5cf5-4be1-8b7c-09720ad55965
X-WR-CALDESC:A chance to get together with friends and test your skills.
X-WR-RELCALID:3d1991cc059b1d6aae64306b4eb32c00
X-WR-TIMEZONE:America/New_York
BEGIN:VTIMEZONE
TZID:America/New_York
BEGIN:STANDARD
TZNAME:EST
DTSTART:20201101T020000
TZOFFSETFROM:-0400
TZOFFSETTO:-0500
RDATE:20211107T020000
RDATE:20221106T020000
END:STANDARD
BEGIN:DAYLIGHT
TZNAME:EDT
DTSTART:20210314T020000
TZOFFSETFROM:-0500
TZOFFSETTO:-0400
RDATE:20220313T020000
END:DAYLIGHT
END:VTIMEZONE
BEGIN:VEVENT
UID:0a42c12e-75f0-4bcb-87ac-2473b5ede7b2
DTSTAMP:20260423T084204Z
DESCRIPTION:A chance to get together with friends and test your skills.
DTSTART;TZID=America/New_York:20210607T143000
DTEND;TZID=America/New_York:20210607T153000
LOCATION:Zoom Meeting
SUMMARY:Trivia 18+
END:VEVENT
END:VCALENDAR
