BEGIN:VCALENDAR
VERSION:2.0
PRODID:-//www.arcnbc.org//NONSGML kigkonsult.se iCalcreator 2.30.10//
CALSCALE:GREGORIAN
METHOD:PUBLISH
UID:48605f65-35c7-463f-b527-e71916e906b1
X-WR-CALDESC:This is a chance for moms to get together and vent\, brainstor
 m\, gather.  This will be held weekly for all you amazing moms out there.
X-WR-RELCALID:569ccb21659555a2b7e0e05808ae9628
X-WR-TIMEZONE:America/New_York
BEGIN:VTIMEZONE
TZID:America/New_York
BEGIN:STANDARD
TZNAME:EST
DTSTART:20201101T020000
TZOFFSETFROM:-0400
TZOFFSETTO:-0500
RDATE:20211107T020000
RDATE:20221106T020000
END:STANDARD
BEGIN:DAYLIGHT
TZNAME:EDT
DTSTART:20210314T020000
TZOFFSETFROM:-0500
TZOFFSETTO:-0400
RDATE:20220313T020000
END:DAYLIGHT
END:VTIMEZONE
BEGIN:VEVENT
UID:cc88e9ed-6db5-4dfd-8f9b-8c20989abc9c
DTSTAMP:20260423T084038Z
DESCRIPTION:This is a chance for moms to get together and vent\, brainstorm
 \, gather.  This will be held weekly for all you amazing moms out there.
DTSTART;TZID=America/New_York:20210621T190000
DTEND;TZID=America/New_York:20210621T200000
LOCATION:Zoom Meetings
SUMMARY:Mom's Support Group
END:VEVENT
END:VCALENDAR
