BEGIN:VCALENDAR
VERSION:2.0
PRODID:-//www.arcnbc.org//NONSGML kigkonsult.se iCalcreator 2.30.10//
CALSCALE:GREGORIAN
METHOD:PUBLISH
UID:62ae0d8c-a74e-4313-9a2a-e0eb04bbeab4
X-WR-CALDESC:Get together with friends and get moving.  You will hear some 
 of your favorite songs and get to dance along with your friends virtually.
X-WR-RELCALID:dcc249526a50be3edf434792d9e89a77
X-WR-TIMEZONE:America/New_York
BEGIN:VTIMEZONE
TZID:America/New_York
BEGIN:STANDARD
TZNAME:EST
DTSTART:20201101T020000
TZOFFSETFROM:-0400
TZOFFSETTO:-0500
RDATE:20211107T020000
RDATE:20221106T020000
END:STANDARD
BEGIN:DAYLIGHT
TZNAME:EDT
DTSTART:20210314T020000
TZOFFSETFROM:-0500
TZOFFSETTO:-0400
RDATE:20220313T020000
END:DAYLIGHT
END:VTIMEZONE
BEGIN:VEVENT
UID:70b0c14c-0278-41b7-8452-a90877d68df2
DTSTAMP:20260423T085132Z
DESCRIPTION:Get together with friends and get moving.  You will hear some o
 f your favorite songs and get to dance along with your friends virtually.
DTSTART;TZID=America/New_York:20210721T120000
DTEND;TZID=America/New_York:20210721T130000
LOCATION:Zoom Meeting
SUMMARY:Cha-boom Under 18 (Chair & Regular Zumba)
END:VEVENT
END:VCALENDAR
