BEGIN:VCALENDAR
VERSION:2.0
PRODID:-//www.arcnbc.org//NONSGML kigkonsult.se iCalcreator 2.30.10//
CALSCALE:GREGORIAN
METHOD:PUBLISH
UID:dd2ce81c-a30e-4630-b17d-08a716b36ac0
X-WR-CALDESC:Shri Yoga (All ages) \nShri is the only yoga outreach organiza
 tion of its kind in Rhode Island\, serving adults and children with develo
 pmental and intellectual disabilities\, veterans\, children in schools\, h
 ospitals and shelters\, incarcerated youth\, men and women in recovery\, i
 n clinics - and more.  \n\nhttps://shriyoga.org/index.html
X-WR-RELCALID:b0cfa3e0c818ea0d9e59e61548336541
X-WR-TIMEZONE:America/New_York
BEGIN:VTIMEZONE
TZID:America/New_York
BEGIN:STANDARD
TZNAME:EST
DTSTART:20201101T020000
TZOFFSETFROM:-0400
TZOFFSETTO:-0500
RDATE:20211107T020000
RDATE:20221106T020000
END:STANDARD
BEGIN:DAYLIGHT
TZNAME:EDT
DTSTART:20210314T020000
TZOFFSETFROM:-0500
TZOFFSETTO:-0400
RDATE:20220313T020000
END:DAYLIGHT
END:VTIMEZONE
BEGIN:VEVENT
UID:d6eb1792-7a6a-432a-ac4a-c2d07a37bb9f
DTSTAMP:20260423T084732Z
DESCRIPTION:Shri Yoga (All ages) \nShri is the only yoga outreach organizat
 ion of its kind in Rhode Island\, serving adults and children with develop
 mental and intellectual disabilities\, veterans\, children in schools\, ho
 spitals and shelters\, incarcerated youth\, men and women in recovery\, in
  clinics - and more.  \n\nhttps://shriyoga.org/index.html
DTSTART;TZID=America/New_York:20210729T110000
DTEND;TZID=America/New_York:20210729T120000
LOCATION:Zoom Meetings
SUMMARY:Shri Yoga
END:VEVENT
END:VCALENDAR
