BEGIN:VCALENDAR
VERSION:2.0
PRODID:-//www.arcnbc.org//NONSGML kigkonsult.se iCalcreator 2.30.10//
CALSCALE:GREGORIAN
METHOD:PUBLISH
UID:db1864b5-97aa-472e-95a8-2c1b6bda791f
X-WR-CALDESC:A night of swimming and dinner.  This is a cost free event.
X-WR-RELCALID:8f51f5ae8acbb83abd77f17168f79510
X-WR-TIMEZONE:America/New_York
BEGIN:VTIMEZONE
TZID:America/New_York
BEGIN:STANDARD
TZNAME:EST
DTSTART:20201101T020000
TZOFFSETFROM:-0400
TZOFFSETTO:-0500
RDATE:20211107T020000
RDATE:20221106T020000
END:STANDARD
BEGIN:DAYLIGHT
TZNAME:EDT
DTSTART:20210314T020000
TZOFFSETFROM:-0500
TZOFFSETTO:-0400
RDATE:20220313T020000
END:DAYLIGHT
END:VTIMEZONE
BEGIN:VEVENT
UID:61a5cb05-5d60-4c76-91b4-c3cc5a73919f
DTSTAMP:20260423T084037Z
DESCRIPTION:A night of swimming and dinner.  This is a cost free event.
DTSTART;TZID=America/New_York:20210820T190000
DTEND;TZID=America/New_York:20210820T210000
LOCATION:Pleasant St. YMCA in Attleboro
SUMMARY:Go night @ YMCA
END:VEVENT
END:VCALENDAR
