BEGIN:VCALENDAR
VERSION:2.0
PRODID:-//www.arcnbc.org//NONSGML kigkonsult.se iCalcreator 2.30.10//
CALSCALE:GREGORIAN
METHOD:PUBLISH
UID:33986abf-52b7-4ac6-a6d2-76f52bbcccbd
X-WR-CALDESC:All the folks in Day Program in our RI office proAbility are g
 etting together daily.  They are doing a variety of groups daily.  They fi
 rst meet in one large group and then branch off into a group of their choo
 sing. (There are usually 3 meetings a day to offer)  Here iare  some of th
 e groups they have done so far and will continue to do: \nLet's Talk\, Dai
 ly Basics: Reading Skills\, World History\, Math Games\, Music\, Movies\, 
  Health\,  Safety and Boundaries\, Handling & Dealing with Covid-19 (ways 
 to cope)\, Social Skills Groups\, Zumba\, Yoga\, How To Work Towards Meani
 ngful Employment\,  \nThey are also adding some fun in the Daily Evening g
 roups at 4:30:\nTrivia\, Name That Tune\, Jeopardy\, Hangman.  \n
X-WR-RELCALID:9c1386c2c934c1e96131bc0ed9549d1b
X-WR-TIMEZONE:America/New_York
BEGIN:VTIMEZONE
TZID:America/New_York
BEGIN:STANDARD
TZNAME:EST
DTSTART:20201101T020000
TZOFFSETFROM:-0400
TZOFFSETTO:-0500
RDATE:20211107T020000
RDATE:20221106T020000
END:STANDARD
BEGIN:DAYLIGHT
TZNAME:EDT
DTSTART:20210314T020000
TZOFFSETFROM:-0500
TZOFFSETTO:-0400
RDATE:20220313T020000
RDATE:20230312T020000
END:DAYLIGHT
END:VTIMEZONE
BEGIN:VEVENT
UID:b2f2be82-5a94-4612-ab91-f5d82adfb6ff
DTSTAMP:20260423T084841Z
DESCRIPTION:All the folks in Day Program in our RI office proAbility are ge
 tting together daily.  They are doing a variety of groups daily.  They fir
 st meet in one large group and then branch off into a group of their choos
 ing. (There are usually 3 meetings a day to offer)  Here iare  some of the
  groups they have done so far and will continue to do: \nLet's Talk\, Dail
 y Basics: Reading Skills\, World History\, Math Games\, Music\, Movies\,  
 Health\,  Safety and Boundaries\, Handling & Dealing with Covid-19 (ways t
 o cope)\, Social Skills Groups\, Zumba\, Yoga\, How To Work Towards Meanin
 gful Employment\,  \nThey are also adding some fun in the Daily Evening gr
 oups at 4:30:\nTrivia\, Name That Tune\, Jeopardy\, Hangman.  \n
DTSTART;TZID=America/New_York:20210914T110000
DTEND;TZID=America/New_York:20210914T120000
LOCATION:Zoom Meetings
SUMMARY:The Arc/proAbility Daily Meetings
END:VEVENT
END:VCALENDAR
