BEGIN:VCALENDAR
VERSION:2.0
PRODID:-//www.arcnbc.org//NONSGML kigkonsult.se iCalcreator 2.30.10//
CALSCALE:GREGORIAN
METHOD:PUBLISH
UID:907b5d93-82ed-46ba-9eb8-514d7fdead0b
X-WR-CALDESC:Here is a list of some of the yummy treats we will be making:
 \nTres’ Leche (Three Milks) Memorial Day Flag cake\nChocolate Chip Cookies
 \n Whoopie Pies\n Frozen Chocolate Monkey Treats\n Beach Ball Cake  (For t
 he First Day Of Summer!!)                                                 
                              \n Chocolate Fudge\n
X-WR-RELCALID:e1ef2e0422e8601d65b53234119f654e
X-WR-TIMEZONE:America/New_York
BEGIN:VTIMEZONE
TZID:America/New_York
BEGIN:STANDARD
TZNAME:EST
DTSTART:20201101T020000
TZOFFSETFROM:-0400
TZOFFSETTO:-0500
RDATE:20211107T020000
RDATE:20221106T020000
END:STANDARD
BEGIN:DAYLIGHT
TZNAME:EDT
DTSTART:20210314T020000
TZOFFSETFROM:-0500
TZOFFSETTO:-0400
RDATE:20220313T020000
RDATE:20230312T020000
END:DAYLIGHT
END:VTIMEZONE
BEGIN:VEVENT
UID:a650cfa2-c92e-4712-92f0-a0e40ac7ed0b
DTSTAMP:20260423T084029Z
DESCRIPTION:Here is a list of some of the yummy treats we will be making:\n
 Tres’ Leche (Three Milks) Memorial Day Flag cake\nChocolate Chip Cookies\n
  Whoopie Pies\n Frozen Chocolate Monkey Treats\n Beach Ball Cake  (For the
  First Day Of Summer!!)                                                   
                            \n Chocolate Fudge\n
DTSTART;TZID=America/New_York:20210924T143000
DTEND;TZID=America/New_York:20210924T153000
LOCATION:Zoom Meetings
SUMMARY:Baking Group
END:VEVENT
END:VCALENDAR
