BEGIN:VCALENDAR
VERSION:2.0
PRODID:-//www.arcnbc.org//NONSGML kigkonsult.se iCalcreator 2.30.10//
CALSCALE:GREGORIAN
METHOD:PUBLISH
UID:7acec062-7fe5-41fa-bd23-6f72b31351fe
X-WR-CALDESC:A chance to get together with friends and test your skills.
X-WR-RELCALID:dd5c7995d76ed7f2eabda7ed1b802103
X-WR-TIMEZONE:America/New_York
BEGIN:VTIMEZONE
TZID:America/New_York
BEGIN:STANDARD
TZNAME:EST
DTSTART:20201101T020000
TZOFFSETFROM:-0400
TZOFFSETTO:-0500
RDATE:20211107T020000
RDATE:20221106T020000
END:STANDARD
BEGIN:DAYLIGHT
TZNAME:EDT
DTSTART:20210314T020000
TZOFFSETFROM:-0500
TZOFFSETTO:-0400
RDATE:20220313T020000
RDATE:20230312T020000
END:DAYLIGHT
END:VTIMEZONE
BEGIN:VEVENT
UID:fb10a604-6b88-4336-804e-711b709a1208
DTSTAMP:20260423T084346Z
DESCRIPTION:A chance to get together with friends and test your skills.
DTSTART;TZID=America/New_York:20210927T143000
DTEND;TZID=America/New_York:20210927T153000
LOCATION:Zoom Meeting
SUMMARY:Trivia 18+
END:VEVENT
END:VCALENDAR
