BEGIN:VCALENDAR
VERSION:2.0
PRODID:-//www.arcnbc.org//NONSGML kigkonsult.se iCalcreator 2.30.10//
CALSCALE:GREGORIAN
METHOD:PUBLISH
UID:9aaff3ea-b75d-4663-8dc2-e255a8c55742
X-WR-CALDESC:A night of swimming and dinner.  This is a cost free event.
X-WR-RELCALID:390296f438e4bc5a538f76c12d548dc1
X-WR-TIMEZONE:America/New_York
BEGIN:VTIMEZONE
TZID:America/New_York
BEGIN:STANDARD
TZNAME:EST
DTSTART:20201101T020000
TZOFFSETFROM:-0400
TZOFFSETTO:-0500
RDATE:20211107T020000
RDATE:20221106T020000
END:STANDARD
BEGIN:DAYLIGHT
TZNAME:EDT
DTSTART:20210314T020000
TZOFFSETFROM:-0500
TZOFFSETTO:-0400
RDATE:20220313T020000
RDATE:20230312T020000
END:DAYLIGHT
END:VTIMEZONE
BEGIN:VEVENT
UID:51fe2ead-e2cb-4147-96cc-0725a3d8c809
DTSTAMP:20260423T084208Z
DESCRIPTION:A night of swimming and dinner.  This is a cost free event.
DTSTART;TZID=America/New_York:20211015T190000
DTEND;TZID=America/New_York:20211015T210000
LOCATION:Pleasant St. YMCA in Attleboro
SUMMARY:Go night @ YMCA
END:VEVENT
END:VCALENDAR
