BEGIN:VCALENDAR
VERSION:2.0
PRODID:-//www.arcnbc.org//NONSGML kigkonsult.se iCalcreator 2.30.10//
CALSCALE:GREGORIAN
METHOD:PUBLISH
UID:0503a120-744a-46e6-9872-89cb49e2402f
X-WR-CALDESC:This is your chance to make your own Comic Hero.  Get together
  on Tuesday afternoon with friends and let your imagination run free.
X-WR-RELCALID:55e3a9bf8964f9a53af8d513b7b3e443
X-WR-TIMEZONE:America/New_York
BEGIN:VTIMEZONE
TZID:America/New_York
BEGIN:STANDARD
TZNAME:EST
DTSTART:20211107T020000
TZOFFSETFROM:-0400
TZOFFSETTO:-0500
RDATE:20221106T020000
END:STANDARD
BEGIN:DAYLIGHT
TZNAME:EDT
DTSTART:20210314T020000
TZOFFSETFROM:-0500
TZOFFSETTO:-0400
RDATE:20220313T020000
RDATE:20230312T020000
END:DAYLIGHT
END:VTIMEZONE
BEGIN:VEVENT
UID:9142218a-1d47-4c8b-9bf5-3e0846c4cf15
DTSTAMP:20260423T084104Z
DESCRIPTION:This is your chance to make your own Comic Hero.  Get together 
 on Tuesday afternoon with friends and let your imagination run free.
DTSTART;TZID=America/New_York:20211221T150000
DTEND;TZID=America/New_York:20211221T160000
LOCATION:Zoom Meeting
SUMMARY:Create Your Own Comic Book
END:VEVENT
END:VCALENDAR
