BEGIN:VCALENDAR
VERSION:2.0
PRODID:-//www.arcnbc.org//NONSGML kigkonsult.se iCalcreator 2.30.10//
CALSCALE:GREGORIAN
METHOD:PUBLISH
UID:9bf92c16-e20c-49dd-8b41-e5814e528884
X-WR-CALDESC:Get together with your Rec Connect crew.  Check in\, catch up 
 and have fun together.
X-WR-RELCALID:98f370146f1c0230b9e4eff39416f952
X-WR-TIMEZONE:America/New_York
BEGIN:VTIMEZONE
TZID:America/New_York
BEGIN:STANDARD
TZNAME:EST
DTSTART:20211107T020000
TZOFFSETFROM:-0400
TZOFFSETTO:-0500
RDATE:20221106T020000
END:STANDARD
BEGIN:DAYLIGHT
TZNAME:EDT
DTSTART:20210314T020000
TZOFFSETFROM:-0500
TZOFFSETTO:-0400
RDATE:20220313T020000
RDATE:20230312T020000
END:DAYLIGHT
END:VTIMEZONE
BEGIN:VEVENT
UID:f11288e6-435c-42b8-9080-feeab05a20dd
DTSTAMP:20260423T065204Z
DESCRIPTION:Get together with your Rec Connect crew.  Check in\, catch up a
 nd have fun together.
DTSTART;TZID=America/New_York:20220120T153000
DTEND;TZID=America/New_York:20220120T163000
LOCATION:Zoom Meetings
SUMMARY:Rec Connect Weekly Check In & Fun
END:VEVENT
END:VCALENDAR
