BEGIN:VCALENDAR
VERSION:2.0
PRODID:-//www.arcnbc.org//NONSGML kigkonsult.se iCalcreator 2.30.10//
CALSCALE:GREGORIAN
METHOD:PUBLISH
UID:32cf7e90-0b47-4f07-b1de-bc2a8bf69c78
X-WR-CALDESC:Get together with friends and get moving.  You will hear some 
 of your favorite songs and get to dance along with your friends virtually.
X-WR-RELCALID:60ca16b23794b6f2e1e5edad62e53cc0
X-WR-TIMEZONE:America/New_York
BEGIN:VTIMEZONE
TZID:America/New_York
BEGIN:STANDARD
TZNAME:EST
DTSTART:20211107T020000
TZOFFSETFROM:-0400
TZOFFSETTO:-0500
RDATE:20221106T020000
END:STANDARD
BEGIN:DAYLIGHT
TZNAME:EDT
DTSTART:20210314T020000
TZOFFSETFROM:-0500
TZOFFSETTO:-0400
RDATE:20220313T020000
RDATE:20230312T020000
END:DAYLIGHT
END:VTIMEZONE
BEGIN:VEVENT
UID:2e322abb-19a8-44aa-9f02-59a33604efbd
DTSTAMP:20260423T065817Z
DESCRIPTION:Get together with friends and get moving.  You will hear some o
 f your favorite songs and get to dance along with your friends virtually.
DTSTART;TZID=America/New_York:20220126T120000
DTEND;TZID=America/New_York:20220126T130000
LOCATION:Zoom Meeting
SUMMARY:Cha-boom Under 18 (Chair & Regular Zumba)
END:VEVENT
END:VCALENDAR
