BEGIN:VCALENDAR
VERSION:2.0
PRODID:-//www.arcnbc.org//NONSGML kigkonsult.se iCalcreator 2.30.10//
CALSCALE:GREGORIAN
METHOD:PUBLISH
UID:73c3283d-e034-4336-9476-11a522de1cbe
X-WR-CALDESC:
X-WR-RELCALID:14ab8a80e555de9f1145155d71d7a59d
X-WR-TIMEZONE:America/New_York
BEGIN:VTIMEZONE
TZID:America/New_York
BEGIN:STANDARD
TZNAME:EST
DTSTART:20211107T020000
TZOFFSETFROM:-0400
TZOFFSETTO:-0500
RDATE:20221106T020000
END:STANDARD
BEGIN:DAYLIGHT
TZNAME:EDT
DTSTART:20210314T020000
TZOFFSETFROM:-0500
TZOFFSETTO:-0400
RDATE:20220313T020000
RDATE:20230312T020000
END:DAYLIGHT
END:VTIMEZONE
BEGIN:VEVENT
UID:a055a11c-53b5-4972-b922-82417f1af7da
DTSTAMP:20260423T083635Z
DESCRIPTION:
DTSTART;TZID=America/New_York:20220223T161500
DTEND;TZID=America/New_York:20220413T170000
LOCATION:
SUMMARY:Creating with The Arc
END:VEVENT
END:VCALENDAR
