BEGIN:VCALENDAR
VERSION:2.0
PRODID:-//www.arcnbc.org//NONSGML kigkonsult.se iCalcreator 2.30.10//
CALSCALE:GREGORIAN
METHOD:PUBLISH
UID:dd383c2f-1148-4f63-9477-7b2d5e955e31
X-WR-CALDESC:
X-WR-RELCALID:3fa29cc7bc2c8463768e6417643c5410
X-WR-TIMEZONE:America/New_York
BEGIN:VTIMEZONE
TZID:America/New_York
BEGIN:STANDARD
TZNAME:EST
DTSTART:20211107T020000
TZOFFSETFROM:-0400
TZOFFSETTO:-0500
RDATE:20221106T020000
END:STANDARD
BEGIN:DAYLIGHT
TZNAME:EDT
DTSTART:20210314T020000
TZOFFSETFROM:-0500
TZOFFSETTO:-0400
RDATE:20220313T020000
RDATE:20230312T020000
END:DAYLIGHT
END:VTIMEZONE
BEGIN:VEVENT
UID:d8d1a316-bd21-44d0-98e3-5854d8a4303e
DTSTAMP:20260423T065029Z
DESCRIPTION:
DTSTART;TZID=America/New_York:20220302T161500
DTEND;TZID=America/New_York:20220420T170000
LOCATION:
SUMMARY:Creating with The Arc
END:VEVENT
END:VCALENDAR
