BEGIN:VCALENDAR
VERSION:2.0
PRODID:-//www.arcnbc.org//NONSGML kigkonsult.se iCalcreator 2.30.10//
CALSCALE:GREGORIAN
METHOD:PUBLISH
UID:246c2c65-ca59-4b51-93a4-f8d93dc4668d
X-WR-CALDESC:
X-WR-RELCALID:e3393f74de8b6a6350fe1c8ee1ac06b9
X-WR-TIMEZONE:America/New_York
BEGIN:VTIMEZONE
TZID:America/New_York
BEGIN:STANDARD
TZNAME:EST
DTSTART:20211107T020000
TZOFFSETFROM:-0400
TZOFFSETTO:-0500
RDATE:20221106T020000
END:STANDARD
BEGIN:DAYLIGHT
TZNAME:EDT
DTSTART:20220313T020000
TZOFFSETFROM:-0500
TZOFFSETTO:-0400
RDATE:20230312T020000
END:DAYLIGHT
END:VTIMEZONE
BEGIN:VEVENT
UID:d3d33129-854e-4942-b1a6-359df3911a34
DTSTAMP:20260423T065026Z
DESCRIPTION:
DTSTART;TZID=America/New_York:20220316T161500
DTEND;TZID=America/New_York:20220504T170000
LOCATION:
SUMMARY:Creating with The Arc
END:VEVENT
END:VCALENDAR
