BEGIN:VCALENDAR
VERSION:2.0
PRODID:-//www.arcnbc.org//NONSGML kigkonsult.se iCalcreator 2.30.10//
CALSCALE:GREGORIAN
METHOD:PUBLISH
UID:c8e8f962-5fb8-411a-8f03-5d70089a05d1
X-WR-CALDESC:
X-WR-RELCALID:357b61d1b0c55c616306e83bc324eb91
X-WR-TIMEZONE:America/New_York
BEGIN:VTIMEZONE
TZID:America/New_York
BEGIN:STANDARD
TZNAME:EST
DTSTART:20211107T020000
TZOFFSETFROM:-0400
TZOFFSETTO:-0500
RDATE:20221106T020000
END:STANDARD
BEGIN:DAYLIGHT
TZNAME:EDT
DTSTART:20220313T020000
TZOFFSETFROM:-0500
TZOFFSETTO:-0400
RDATE:20230312T020000
END:DAYLIGHT
END:VTIMEZONE
BEGIN:VEVENT
UID:83d12a41-2eab-4635-a0e2-007baff4d30e
DTSTAMP:20260423T065007Z
DESCRIPTION:
DTSTART;TZID=America/New_York:20220406T161500
DTEND;TZID=America/New_York:20220525T170000
LOCATION:
SUMMARY:Creating with The Arc
END:VEVENT
END:VCALENDAR
