BEGIN:VCALENDAR
VERSION:2.0
PRODID:-//www.arcnbc.org//NONSGML kigkonsult.se iCalcreator 2.30.10//
CALSCALE:GREGORIAN
METHOD:PUBLISH
UID:2e73aa5c-44e2-48c9-a1a5-d9029d21036d
X-WR-CALDESC:
X-WR-RELCALID:f95319d2e3ed3cadbba16ad0a987a1f5
X-WR-TIMEZONE:America/New_York
BEGIN:VTIMEZONE
TZID:America/New_York
BEGIN:STANDARD
TZNAME:EST
DTSTART:20211107T020000
TZOFFSETFROM:-0400
TZOFFSETTO:-0500
RDATE:20221106T020000
END:STANDARD
BEGIN:DAYLIGHT
TZNAME:EDT
DTSTART:20220313T020000
TZOFFSETFROM:-0500
TZOFFSETTO:-0400
RDATE:20230312T020000
END:DAYLIGHT
END:VTIMEZONE
BEGIN:VEVENT
UID:a8e0dbc3-fbee-47de-820a-4db6b304c6f6
DTSTAMP:20260423T065149Z
DESCRIPTION:
DTSTART;TZID=America/New_York:20220416T150000
DTEND;TZID=America/New_York:20220416T160000
LOCATION:
SUMMARY:Lego Group with Justin
END:VEVENT
END:VCALENDAR
