BEGIN:VCALENDAR
VERSION:2.0
PRODID:-//www.arcnbc.org//NONSGML kigkonsult.se iCalcreator 2.30.10//
CALSCALE:GREGORIAN
METHOD:PUBLISH
UID:57bc98f0-3bae-4fe8-abf1-38af192ac5d6
X-WR-CALDESC:This is a chance for moms to get together and vent\, brainstor
 m\, gather.  This will be held weekly for all you amazing moms out there.
X-WR-RELCALID:d1514a8b55517e831d99765d9ddb723f
X-WR-TIMEZONE:America/New_York
BEGIN:VTIMEZONE
TZID:America/New_York
BEGIN:STANDARD
TZNAME:EST
DTSTART:20211107T020000
TZOFFSETFROM:-0400
TZOFFSETTO:-0500
RDATE:20221106T020000
END:STANDARD
BEGIN:DAYLIGHT
TZNAME:EDT
DTSTART:20220313T020000
TZOFFSETFROM:-0500
TZOFFSETTO:-0400
RDATE:20230312T020000
END:DAYLIGHT
END:VTIMEZONE
BEGIN:VEVENT
UID:2f46c1cf-4041-425a-806f-992cc8446d40
DTSTAMP:20260423T065026Z
DESCRIPTION:This is a chance for moms to get together and vent\, brainstorm
 \, gather.  This will be held weekly for all you amazing moms out there.
DTSTART;TZID=America/New_York:20220418T190000
DTEND;TZID=America/New_York:20220418T200000
LOCATION:Zoom Meetings
SUMMARY:Mom's Support Group
END:VEVENT
END:VCALENDAR
