BEGIN:VCALENDAR
VERSION:2.0
PRODID:-//www.arcnbc.org//NONSGML kigkonsult.se iCalcreator 2.30.10//
CALSCALE:GREGORIAN
METHOD:PUBLISH
UID:f260e32c-6c08-43ad-8d0b-45e7970cd356
X-WR-CALDESC:A chance to get together with friends and test your skills.
X-WR-RELCALID:39cf88da275b9e1214f77e5185c60f77
X-WR-TIMEZONE:America/New_York
BEGIN:VTIMEZONE
TZID:America/New_York
BEGIN:STANDARD
TZNAME:EST
DTSTART:20211107T020000
TZOFFSETFROM:-0400
TZOFFSETTO:-0500
RDATE:20221106T020000
RDATE:20231105T020000
END:STANDARD
BEGIN:DAYLIGHT
TZNAME:EDT
DTSTART:20220313T020000
TZOFFSETFROM:-0500
TZOFFSETTO:-0400
RDATE:20230312T020000
END:DAYLIGHT
END:VTIMEZONE
BEGIN:VEVENT
UID:29b70c0e-c621-4f24-b918-18054946da63
DTSTAMP:20260423T065042Z
DESCRIPTION:A chance to get together with friends and test your skills.
DTSTART;TZID=America/New_York:20220905T143000
DTEND;TZID=America/New_York:20220905T153000
LOCATION:Zoom Meeting
SUMMARY:Trivia 18+
END:VEVENT
END:VCALENDAR
