BEGIN:VCALENDAR
VERSION:2.0
PRODID:-//www.arcnbc.org//NONSGML kigkonsult.se iCalcreator 2.30.10//
CALSCALE:GREGORIAN
METHOD:PUBLISH
UID:835df63f-1852-4117-8a44-88b1a97294d4
X-WR-CALDESC:
X-WR-RELCALID:e501953e67f2bb8f4953a211b773982e
X-WR-TIMEZONE:America/New_York
BEGIN:VTIMEZONE
TZID:America/New_York
BEGIN:STANDARD
TZNAME:EST
DTSTART:20221106T020000
TZOFFSETFROM:-0400
TZOFFSETTO:-0500
RDATE:20231105T020000
END:STANDARD
BEGIN:DAYLIGHT
TZNAME:EDT
DTSTART:20220313T020000
TZOFFSETFROM:-0500
TZOFFSETTO:-0400
RDATE:20230312T020000
RDATE:20240310T020000
END:DAYLIGHT
END:VTIMEZONE
BEGIN:VEVENT
UID:88fd98f2-280f-4b1b-947e-17b5d8c722e7
DTSTAMP:20260423T065202Z
DESCRIPTION:
DTSTART;TZID=America/New_York:20221112T150000
DTEND;TZID=America/New_York:20221112T160000
LOCATION:
SUMMARY:Lego Group with Justin
END:VEVENT
END:VCALENDAR
