BEGIN:VCALENDAR
VERSION:2.0
PRODID:-//www.arcnbc.org//NONSGML kigkonsult.se iCalcreator 2.30.10//
CALSCALE:GREGORIAN
METHOD:PUBLISH
UID:12a4fe24-ea55-425a-b6ec-b6f63c905ce5
X-WR-CALDESC:Your favorite Drums Alive class virtually!! \nDrums Alive® is 
 a movement-based fitness program that allows all participants to engage at
  their level: from novice to expert drummer.
X-WR-RELCALID:bcc40bfba24742b7fdb137bf6a8efbd3
X-WR-TIMEZONE:America/New_York
BEGIN:VTIMEZONE
TZID:America/New_York
BEGIN:STANDARD
TZNAME:EST
DTSTART:20221106T020000
TZOFFSETFROM:-0400
TZOFFSETTO:-0500
RDATE:20231105T020000
END:STANDARD
BEGIN:DAYLIGHT
TZNAME:EDT
DTSTART:20230312T020000
TZOFFSETFROM:-0500
TZOFFSETTO:-0400
RDATE:20240310T020000
END:DAYLIGHT
END:VTIMEZONE
BEGIN:VEVENT
UID:f45f3b82-efa0-4877-8d7b-e87b138d2b68
DTSTAMP:20260423T045905Z
DESCRIPTION:Your favorite Drums Alive class virtually!! \nDrums Alive® is a
  movement-based fitness program that allows all participants to engage at 
 their level: from novice to expert drummer.
DTSTART;TZID=America/New_York:20230316T160000
DTEND;TZID=America/New_York:20230316T170000
LOCATION:Zoom Meetings
SUMMARY:Drums Alive (All ages)
END:VEVENT
END:VCALENDAR
