BEGIN:VCALENDAR
VERSION:2.0
PRODID:-//www.arcnbc.org//NONSGML kigkonsult.se iCalcreator 2.30.10//
CALSCALE:GREGORIAN
METHOD:PUBLISH
UID:3aaa2954-e5db-483d-b86e-b242176aec0a
X-WR-CALDESC:A night of swimming and dinner.  This is a cost free event.
X-WR-RELCALID:4bb997b5f8590cf9690c735f519c99bb
X-WR-TIMEZONE:America/New_York
BEGIN:VTIMEZONE
TZID:America/New_York
BEGIN:STANDARD
TZNAME:EST
DTSTART:20221106T020000
TZOFFSETFROM:-0400
TZOFFSETTO:-0500
RDATE:20231105T020000
END:STANDARD
BEGIN:DAYLIGHT
TZNAME:EDT
DTSTART:20230312T020000
TZOFFSETFROM:-0500
TZOFFSETTO:-0400
RDATE:20240310T020000
END:DAYLIGHT
END:VTIMEZONE
BEGIN:VEVENT
UID:be2d495d-06ee-4dc8-8aae-3a3ec1846d26
DTSTAMP:20260423T045641Z
DESCRIPTION:A night of swimming and dinner.  This is a cost free event.
DTSTART;TZID=America/New_York:20230317T190000
DTEND;TZID=America/New_York:20230317T210000
LOCATION:Pleasant St. YMCA in Attleboro
SUMMARY:Go night @ YMCA
END:VEVENT
END:VCALENDAR
