BEGIN:VCALENDAR
VERSION:2.0
PRODID:-//www.arcnbc.org//NONSGML kigkonsult.se iCalcreator 2.30.10//
CALSCALE:GREGORIAN
METHOD:PUBLISH
UID:b4f2337e-ed79-419d-b66e-a39a5bd9daea
X-WR-CALDESC:Get together with your Rec Connect crew.  Check in\, catch up 
 and have fun together.
X-WR-RELCALID:62d84df1f863934527508bd5b07460e4
X-WR-TIMEZONE:America/New_York
BEGIN:VTIMEZONE
TZID:America/New_York
BEGIN:STANDARD
TZNAME:EST
DTSTART:20221106T020000
TZOFFSETFROM:-0400
TZOFFSETTO:-0500
RDATE:20231105T020000
RDATE:20241103T020000
END:STANDARD
BEGIN:DAYLIGHT
TZNAME:EDT
DTSTART:20230312T020000
TZOFFSETFROM:-0500
TZOFFSETTO:-0400
RDATE:20240310T020000
END:DAYLIGHT
END:VTIMEZONE
BEGIN:VEVENT
UID:bca70504-30cd-4e8e-9a2f-e6355d746d08
DTSTAMP:20260423T045824Z
DESCRIPTION:Get together with your Rec Connect crew.  Check in\, catch up a
 nd have fun together.
DTSTART;TZID=America/New_York:20230706T153000
DTEND;TZID=America/New_York:20230706T163000
LOCATION:Zoom Meetings
SUMMARY:Rec Connect Weekly Check In & Fun
END:VEVENT
END:VCALENDAR
