BEGIN:VCALENDAR
VERSION:2.0
PRODID:-//www.arcnbc.org//NONSGML kigkonsult.se iCalcreator 2.30.10//
CALSCALE:GREGORIAN
METHOD:PUBLISH
UID:64a8a105-f163-47f2-89b7-974c8a457838
X-WR-CALDESC:
X-WR-RELCALID:8d217b3295076d221b4261c3b78074cd
X-WR-TIMEZONE:America/New_York
BEGIN:VTIMEZONE
TZID:America/New_York
BEGIN:STANDARD
TZNAME:EST
DTSTART:20221106T020000
TZOFFSETFROM:-0400
TZOFFSETTO:-0500
RDATE:20231105T020000
RDATE:20241103T020000
END:STANDARD
BEGIN:DAYLIGHT
TZNAME:EDT
DTSTART:20230312T020000
TZOFFSETFROM:-0500
TZOFFSETTO:-0400
RDATE:20240310T020000
END:DAYLIGHT
END:VTIMEZONE
BEGIN:VEVENT
UID:c8a9b589-694f-436a-b776-151b202dcd9f
DTSTAMP:20260423T045910Z
DESCRIPTION:
DTSTART;TZID=America/New_York:20230722T150000
DTEND;TZID=America/New_York:20230722T160000
LOCATION:
SUMMARY:Lego Group with Justin
END:VEVENT
END:VCALENDAR
