BEGIN:VCALENDAR
VERSION:2.0
PRODID:-//www.arcnbc.org//NONSGML kigkonsult.se iCalcreator 2.30.10//
CALSCALE:GREGORIAN
METHOD:PUBLISH
UID:9386d657-5996-4d2f-ae02-0e9ea11593cf
X-WR-CALDESC:
X-WR-RELCALID:99d7f80f3fff6da2c51c10adfb7cadb2
X-WR-TIMEZONE:America/New_York
BEGIN:VTIMEZONE
TZID:America/New_York
BEGIN:STANDARD
TZNAME:EST
DTSTART:20221106T020000
TZOFFSETFROM:-0400
TZOFFSETTO:-0500
RDATE:20231105T020000
RDATE:20241103T020000
END:STANDARD
BEGIN:DAYLIGHT
TZNAME:EDT
DTSTART:20230312T020000
TZOFFSETFROM:-0500
TZOFFSETTO:-0400
RDATE:20240310T020000
END:DAYLIGHT
END:VTIMEZONE
BEGIN:VEVENT
UID:fc94926a-924d-4f3b-a68f-2020b4b4afef
DTSTAMP:20260423T045755Z
DESCRIPTION:
DTSTART;TZID=America/New_York:20230729T150000
DTEND;TZID=America/New_York:20230729T160000
LOCATION:
SUMMARY:Lego Group with Justin
END:VEVENT
END:VCALENDAR
