BEGIN:VCALENDAR
VERSION:2.0
PRODID:-//www.arcnbc.org//NONSGML kigkonsult.se iCalcreator 2.30.10//
CALSCALE:GREGORIAN
METHOD:PUBLISH
UID:a2084932-5468-4c2a-b695-0863c47dac90
X-WR-CALDESC:All the folks in Day Program in our RI office proAbility are g
 etting together daily.  They are doing a variety of groups daily.  They fi
 rst meet in one large group and then branch off into a group of their choo
 sing. (There are usually 3 meetings a day to offer)  Here iare  some of th
 e groups they have done so far and will continue to do: \nLet's Talk\, Dai
 ly Basics: Reading Skills\, World History\, Math Games\, Music\, Movies\, 
  Health\,  Safety and Boundaries\, Handling & Dealing with Covid-19 (ways 
 to cope)\, Social Skills Groups\, Zumba\, Yoga\, How To Work Towards Meani
 ngful Employment\,  \nThey are also adding some fun in the Daily Evening g
 roups at 4:30:\nTrivia\, Name That Tune\, Jeopardy\, Hangman.  \n
X-WR-RELCALID:25de9c7da410bcc732c93228d7d2a0a0
X-WR-TIMEZONE:America/New_York
BEGIN:VTIMEZONE
TZID:America/New_York
BEGIN:STANDARD
TZNAME:EST
DTSTART:20221106T020000
TZOFFSETFROM:-0400
TZOFFSETTO:-0500
RDATE:20231105T020000
RDATE:20241103T020000
END:STANDARD
BEGIN:DAYLIGHT
TZNAME:EDT
DTSTART:20230312T020000
TZOFFSETFROM:-0500
TZOFFSETTO:-0400
RDATE:20240310T020000
RDATE:20250309T020000
END:DAYLIGHT
END:VTIMEZONE
BEGIN:VEVENT
UID:48b4039e-ab9b-45cf-8ead-30f72b69f1c0
DTSTAMP:20260423T050146Z
DESCRIPTION:All the folks in Day Program in our RI office proAbility are ge
 tting together daily.  They are doing a variety of groups daily.  They fir
 st meet in one large group and then branch off into a group of their choos
 ing. (There are usually 3 meetings a day to offer)  Here iare  some of the
  groups they have done so far and will continue to do: \nLet's Talk\, Dail
 y Basics: Reading Skills\, World History\, Math Games\, Music\, Movies\,  
 Health\,  Safety and Boundaries\, Handling & Dealing with Covid-19 (ways t
 o cope)\, Social Skills Groups\, Zumba\, Yoga\, How To Work Towards Meanin
 gful Employment\,  \nThey are also adding some fun in the Daily Evening gr
 oups at 4:30:\nTrivia\, Name That Tune\, Jeopardy\, Hangman.  \n
DTSTART;TZID=America/New_York:20230914T110000
DTEND;TZID=America/New_York:20230914T120000
LOCATION:Zoom Meetings
SUMMARY:The Arc/proAbility Daily Meetings
END:VEVENT
END:VCALENDAR
