BEGIN:VCALENDAR
VERSION:2.0
PRODID:-//www.arcnbc.org//NONSGML kigkonsult.se iCalcreator 2.30.10//
CALSCALE:GREGORIAN
METHOD:PUBLISH
UID:954409f8-642d-44c3-a1b6-709d51fee459
X-WR-CALDESC:A night of swimming and dinner.  This is a cost free event.
X-WR-RELCALID:b17fc2052867647095d24705ba771350
X-WR-TIMEZONE:America/New_York
BEGIN:VTIMEZONE
TZID:America/New_York
BEGIN:STANDARD
TZNAME:EST
DTSTART:20221106T020000
TZOFFSETFROM:-0400
TZOFFSETTO:-0500
RDATE:20231105T020000
RDATE:20241103T020000
END:STANDARD
BEGIN:DAYLIGHT
TZNAME:EDT
DTSTART:20230312T020000
TZOFFSETFROM:-0500
TZOFFSETTO:-0400
RDATE:20240310T020000
RDATE:20250309T020000
END:DAYLIGHT
END:VTIMEZONE
BEGIN:VEVENT
UID:6b62b069-ddd5-4cbb-96b0-0d17e20a7e92
DTSTAMP:20260423T045641Z
DESCRIPTION:A night of swimming and dinner.  This is a cost free event.
DTSTART;TZID=America/New_York:20230915T190000
DTEND;TZID=America/New_York:20230915T210000
LOCATION:Pleasant St. YMCA in Attleboro
SUMMARY:Go night @ YMCA
END:VEVENT
END:VCALENDAR
