BEGIN:VCALENDAR
VERSION:2.0
PRODID:-//www.arcnbc.org//NONSGML kigkonsult.se iCalcreator 2.30.10//
CALSCALE:GREGORIAN
METHOD:PUBLISH
UID:c27b7a7e-fdb9-47f8-9e9a-ffcd23716eae
X-WR-CALDESC:Your favorite Drums Alive class virtually!! \nDrums Alive® is 
 a movement-based fitness program that allows all participants to engage at
  their level: from novice to expert drummer.
X-WR-RELCALID:9f107d4d6736fc394e71cfcdb615c1b0
X-WR-TIMEZONE:America/New_York
BEGIN:VTIMEZONE
TZID:America/New_York
BEGIN:STANDARD
TZNAME:EST
DTSTART:20221106T020000
TZOFFSETFROM:-0400
TZOFFSETTO:-0500
RDATE:20231105T020000
RDATE:20241103T020000
END:STANDARD
BEGIN:DAYLIGHT
TZNAME:EDT
DTSTART:20230312T020000
TZOFFSETFROM:-0500
TZOFFSETTO:-0400
RDATE:20240310T020000
RDATE:20250309T020000
END:DAYLIGHT
END:VTIMEZONE
BEGIN:VEVENT
UID:cc32e208-cdff-4e56-a4a7-23d2b497734e
DTSTAMP:20260423T045849Z
DESCRIPTION:Your favorite Drums Alive class virtually!! \nDrums Alive® is a
  movement-based fitness program that allows all participants to engage at 
 their level: from novice to expert drummer.
DTSTART;TZID=America/New_York:20230928T160000
DTEND;TZID=America/New_York:20230928T170000
LOCATION:Zoom Meetings
SUMMARY:Drums Alive (All ages)
END:VEVENT
END:VCALENDAR
