BEGIN:VCALENDAR
VERSION:2.0
PRODID:-//www.arcnbc.org//NONSGML kigkonsult.se iCalcreator 2.30.10//
CALSCALE:GREGORIAN
METHOD:PUBLISH
UID:49ec1f1f-a5b1-4d50-90e8-82dee8987c20
X-WR-CALDESC:This is your chance to make your own Comic Hero.  Get together
  on Tuesday afternoon with friends and let your imagination run free.
X-WR-RELCALID:cec518658ae5a13924c0560f4175bb15
X-WR-TIMEZONE:America/New_York
BEGIN:VTIMEZONE
TZID:America/New_York
BEGIN:STANDARD
TZNAME:EST
DTSTART:20231105T020000
TZOFFSETFROM:-0400
TZOFFSETTO:-0500
RDATE:20241103T020000
END:STANDARD
BEGIN:DAYLIGHT
TZNAME:EDT
DTSTART:20230312T020000
TZOFFSETFROM:-0500
TZOFFSETTO:-0400
RDATE:20240310T020000
RDATE:20250309T020000
END:DAYLIGHT
END:VTIMEZONE
BEGIN:VEVENT
UID:ebe721e1-c564-41ab-a352-bb50ee5c5d5f
DTSTAMP:20260423T045621Z
DESCRIPTION:This is your chance to make your own Comic Hero.  Get together 
 on Tuesday afternoon with friends and let your imagination run free.
DTSTART;TZID=America/New_York:20231121T150000
DTEND;TZID=America/New_York:20231121T160000
LOCATION:Zoom Meeting
SUMMARY:Comic Book Group
END:VEVENT
END:VCALENDAR
