BEGIN:VCALENDAR
VERSION:2.0
PRODID:-//www.arcnbc.org//NONSGML kigkonsult.se iCalcreator 2.30.10//
CALSCALE:GREGORIAN
METHOD:PUBLISH
UID:4176e920-9ce6-40a2-8872-740859b44567
X-WR-CALDESC:
X-WR-RELCALID:6dadea2a117e2d090beaa741878fd492
X-WR-TIMEZONE:America/New_York
BEGIN:VTIMEZONE
TZID:America/New_York
BEGIN:STANDARD
TZNAME:EST
DTSTART:20231105T020000
TZOFFSETFROM:-0400
TZOFFSETTO:-0500
RDATE:20241103T020000
END:STANDARD
BEGIN:DAYLIGHT
TZNAME:EDT
DTSTART:20230312T020000
TZOFFSETFROM:-0500
TZOFFSETTO:-0400
RDATE:20240310T020000
RDATE:20250309T020000
END:DAYLIGHT
END:VTIMEZONE
BEGIN:VEVENT
UID:493c1b1e-54fd-4009-8837-69fdbb7834ab
DTSTAMP:20260423T045715Z
DESCRIPTION:
DTSTART;TZID=America/New_York:20231209T150000
DTEND;TZID=America/New_York:20231209T160000
LOCATION:
SUMMARY:Lego Group with Justin
END:VEVENT
END:VCALENDAR
