BEGIN:VCALENDAR
VERSION:2.0
PRODID:-//www.arcnbc.org//NONSGML kigkonsult.se iCalcreator 2.30.10//
CALSCALE:GREGORIAN
METHOD:PUBLISH
UID:6347828d-7dca-450a-9ec9-b028d89db9a0
X-WR-CALDESC:
X-WR-RELCALID:7b71119c23c00ee16c86b16127c9d1b6
X-WR-TIMEZONE:America/New_York
BEGIN:VTIMEZONE
TZID:America/New_York
BEGIN:STANDARD
TZNAME:EST
DTSTART:20231105T020000
TZOFFSETFROM:-0400
TZOFFSETTO:-0500
RDATE:20241103T020000
END:STANDARD
BEGIN:DAYLIGHT
TZNAME:EDT
DTSTART:20230312T020000
TZOFFSETFROM:-0500
TZOFFSETTO:-0400
RDATE:20240310T020000
RDATE:20250309T020000
END:DAYLIGHT
END:VTIMEZONE
BEGIN:VEVENT
UID:9f3969ca-7e03-4505-ac08-806965e2e55c
DTSTAMP:20260423T045907Z
DESCRIPTION:
DTSTART;TZID=America/New_York:20231223T150000
DTEND;TZID=America/New_York:20231223T160000
LOCATION:
SUMMARY:Lego Group with Justin
END:VEVENT
END:VCALENDAR
