BEGIN:VCALENDAR
VERSION:2.0
PRODID:-//www.arcnbc.org//NONSGML kigkonsult.se iCalcreator 2.30.10//
CALSCALE:GREGORIAN
METHOD:PUBLISH
UID:15b2ddf4-ea88-452d-a447-c9ed7cfda0b8
X-WR-CALDESC:Get together with your Rec Connect crew.  Check in\, catch up 
 and have fun together.
X-WR-RELCALID:92a69f2e7fc4ec29e3e5ab070aa49552
X-WR-TIMEZONE:America/New_York
BEGIN:VTIMEZONE
TZID:America/New_York
BEGIN:STANDARD
TZNAME:EST
DTSTART:20231105T020000
TZOFFSETFROM:-0400
TZOFFSETTO:-0500
RDATE:20241103T020000
END:STANDARD
BEGIN:DAYLIGHT
TZNAME:EDT
DTSTART:20230312T020000
TZOFFSETFROM:-0500
TZOFFSETTO:-0400
RDATE:20240310T020000
RDATE:20250309T020000
END:DAYLIGHT
END:VTIMEZONE
BEGIN:VEVENT
UID:9f18b4a0-eb8f-48f3-bd3a-02291b2e5faa
DTSTAMP:20260423T045822Z
DESCRIPTION:Get together with your Rec Connect crew.  Check in\, catch up a
 nd have fun together.
DTSTART;TZID=America/New_York:20231228T153000
DTEND;TZID=America/New_York:20231228T163000
LOCATION:Zoom Meetings
SUMMARY:Rec Connect Weekly Check In & Fun
END:VEVENT
END:VCALENDAR
