BEGIN:VCALENDAR
VERSION:2.0
PRODID:-//www.arcnbc.org//NONSGML kigkonsult.se iCalcreator 2.30.10//
CALSCALE:GREGORIAN
METHOD:PUBLISH
UID:a224fc88-8a2d-4c39-8b4f-e9802534e134
X-WR-CALDESC:Your favorite Drums Alive class virtually!! \nDrums Alive® is 
 a movement-based fitness program that allows all participants to engage at
  their level: from novice to expert drummer.
X-WR-RELCALID:5c918809a16c37d04b548fad3a662663
X-WR-TIMEZONE:America/New_York
BEGIN:VTIMEZONE
TZID:America/New_York
BEGIN:STANDARD
TZNAME:EST
DTSTART:20231105T020000
TZOFFSETFROM:-0400
TZOFFSETTO:-0500
RDATE:20241103T020000
END:STANDARD
BEGIN:DAYLIGHT
TZNAME:EDT
DTSTART:20230312T020000
TZOFFSETFROM:-0500
TZOFFSETTO:-0400
RDATE:20240310T020000
RDATE:20250309T020000
END:DAYLIGHT
END:VTIMEZONE
BEGIN:VEVENT
UID:80d4f0c3-e7d1-4eef-a737-26f7fd5e80cd
DTSTAMP:20260423T030538Z
DESCRIPTION:Your favorite Drums Alive class virtually!! \nDrums Alive® is a
  movement-based fitness program that allows all participants to engage at 
 their level: from novice to expert drummer.
DTSTART;TZID=America/New_York:20240104T160000
DTEND;TZID=America/New_York:20240104T170000
LOCATION:Zoom Meetings
SUMMARY:Drums Alive (All ages)
END:VEVENT
END:VCALENDAR
