BEGIN:VCALENDAR
VERSION:2.0
PRODID:-//www.arcnbc.org//NONSGML kigkonsult.se iCalcreator 2.30.10//
CALSCALE:GREGORIAN
METHOD:PUBLISH
UID:3768fe5e-69e7-4b5b-a341-7e5ba03d522e
X-WR-CALDESC:Shri Yoga (All ages) \nShri is the only yoga outreach organiza
 tion of its kind in Rhode Island\, serving adults and children with develo
 pmental and intellectual disabilities\, veterans\, children in schools\, h
 ospitals and shelters\, incarcerated youth\, men and women in recovery\, i
 n clinics - and more.  \n\nhttps://shriyoga.org/index.html
X-WR-RELCALID:8f1733e3321744253c3b15cb6a7d01ba
X-WR-TIMEZONE:America/New_York
BEGIN:VTIMEZONE
TZID:America/New_York
BEGIN:STANDARD
TZNAME:EST
DTSTART:20231105T020000
TZOFFSETFROM:-0400
TZOFFSETTO:-0500
RDATE:20241103T020000
END:STANDARD
BEGIN:DAYLIGHT
TZNAME:EDT
DTSTART:20230312T020000
TZOFFSETFROM:-0500
TZOFFSETTO:-0400
RDATE:20240310T020000
RDATE:20250309T020000
END:DAYLIGHT
END:VTIMEZONE
BEGIN:VEVENT
UID:2f9bf670-9dc7-4133-83ca-a64276e26e8b
DTSTAMP:20260423T030838Z
DESCRIPTION:Shri Yoga (All ages) \nShri is the only yoga outreach organizat
 ion of its kind in Rhode Island\, serving adults and children with develop
 mental and intellectual disabilities\, veterans\, children in schools\, ho
 spitals and shelters\, incarcerated youth\, men and women in recovery\, in
  clinics - and more.  \n\nhttps://shriyoga.org/index.html
DTSTART;TZID=America/New_York:20240208T110000
DTEND;TZID=America/New_York:20240208T120000
LOCATION:Zoom Meetings
SUMMARY:Shri Yoga
END:VEVENT
END:VCALENDAR
