BEGIN:VCALENDAR
VERSION:2.0
PRODID:-//www.arcnbc.org//NONSGML kigkonsult.se iCalcreator 2.30.10//
CALSCALE:GREGORIAN
METHOD:PUBLISH
UID:14fe8163-db0a-4686-b628-60072d549d07
X-WR-CALDESC:Get together with friends and get moving.  You will hear some 
 of your favorite songs and get to dance along with your friends virtually.
X-WR-RELCALID:e3d421e6d04a5d2faf6a3053bf0cd895
X-WR-TIMEZONE:America/New_York
BEGIN:VTIMEZONE
TZID:America/New_York
BEGIN:STANDARD
TZNAME:EST
DTSTART:20231105T020000
TZOFFSETFROM:-0400
TZOFFSETTO:-0500
RDATE:20241103T020000
END:STANDARD
BEGIN:DAYLIGHT
TZNAME:EDT
DTSTART:20240310T020000
TZOFFSETFROM:-0500
TZOFFSETTO:-0400
RDATE:20250309T020000
END:DAYLIGHT
END:VTIMEZONE
BEGIN:VEVENT
UID:c9ad4ac0-d395-4f7a-8282-0156ddb0631a
DTSTAMP:20260423T031405Z
DESCRIPTION:Get together with friends and get moving.  You will hear some o
 f your favorite songs and get to dance along with your friends virtually.
DTSTART;TZID=America/New_York:20240325T153000
DTEND;TZID=America/New_York:20240325T163000
LOCATION:Zoom Meeting
SUMMARY:Cha-boom 18+ (Chair & Regular Zumba)
END:VEVENT
END:VCALENDAR
