BEGIN:VCALENDAR
VERSION:2.0
PRODID:-//www.arcnbc.org//NONSGML kigkonsult.se iCalcreator 2.30.10//
CALSCALE:GREGORIAN
METHOD:PUBLISH
UID:1270258f-0699-4f30-9942-3fd2384d35a2
X-WR-CALDESC:Your favorite Drums Alive class virtually!! \nDrums Alive® is 
 a movement-based fitness program that allows all participants to engage at
  their level: from novice to expert drummer.
X-WR-RELCALID:69034b735bdbc0b5c9c98d4400be3645
X-WR-TIMEZONE:America/New_York
BEGIN:VTIMEZONE
TZID:America/New_York
BEGIN:STANDARD
TZNAME:EST
DTSTART:20231105T020000
TZOFFSETFROM:-0400
TZOFFSETTO:-0500
RDATE:20241103T020000
END:STANDARD
BEGIN:DAYLIGHT
TZNAME:EDT
DTSTART:20240310T020000
TZOFFSETFROM:-0500
TZOFFSETTO:-0400
RDATE:20250309T020000
END:DAYLIGHT
END:VTIMEZONE
BEGIN:VEVENT
UID:d09a2d9c-5c0d-4f54-b7b5-67830b4734b3
DTSTAMP:20260423T030710Z
DESCRIPTION:Your favorite Drums Alive class virtually!! \nDrums Alive® is a
  movement-based fitness program that allows all participants to engage at 
 their level: from novice to expert drummer.
DTSTART;TZID=America/New_York:20240328T160000
DTEND;TZID=America/New_York:20240328T170000
LOCATION:Zoom Meetings
SUMMARY:Drums Alive (All ages)
END:VEVENT
END:VCALENDAR
