BEGIN:VCALENDAR
VERSION:2.0
PRODID:-//www.arcnbc.org//NONSGML kigkonsult.se iCalcreator 2.30.10//
CALSCALE:GREGORIAN
METHOD:PUBLISH
UID:4c1fdd73-fe7a-4162-8162-889b6974480f
X-WR-CALDESC:Join us at The Country Club of New Bedford for the 41st Annual
  Arc Charity State Representatives Cup! \nThe Arc of Greater New Bedford\,
  a division of The Arc of Bristol County\, continues to serve individuals 
 with intellectual and developmental disabilities and their families\, as t
 hey have done for over 65 years. The Arc provides Education Advocacy\, Adu
 lt Family Care\, and Social Recreation Activities for individuals and fami
 lies throughout the greater New Bedford area.
X-WR-RELCALID:2db25c6b521f6c7feede48d15e7dcea9
X-WR-TIMEZONE:America/New_York
BEGIN:VTIMEZONE
TZID:America/New_York
BEGIN:STANDARD
TZNAME:EST
DTSTART:20231105T020000
TZOFFSETFROM:-0400
TZOFFSETTO:-0500
RDATE:20241103T020000
RDATE:20251102T020000
END:STANDARD
BEGIN:DAYLIGHT
TZNAME:EDT
DTSTART:20240310T020000
TZOFFSETFROM:-0500
TZOFFSETTO:-0400
RDATE:20250309T020000
RDATE:20260308T020000
END:DAYLIGHT
END:VTIMEZONE
BEGIN:VEVENT
UID:3d45be52-8ee8-4acd-9778-0b1ad1932e1c
DTSTAMP:20260423T030514Z
DESCRIPTION:Join us at The Country Club of New Bedford for the 41st Annual 
 Arc Charity State Representatives Cup! \nThe Arc of Greater New Bedford\, 
 a division of The Arc of Bristol County\, continues to serve individuals w
 ith intellectual and developmental disabilities and their families\, as th
 ey have done for over 65 years. The Arc provides Education Advocacy\, Adul
 t Family Care\, and Social Recreation Activities for individuals and famil
 ies throughout the greater New Bedford area.
DTSTART;TZID=America/New_York:20240923T110000
DTEND;TZID=America/New_York:20240923T193000
LOCATION:585 Slocum Road \, North Dartmouth\, MA 02747 US
SUMMARY:41st Annual Arc Charity State Representatives Cup
END:VEVENT
END:VCALENDAR
