BEGIN:VCALENDAR
VERSION:2.0
PRODID:-//www.arcnbc.org//NONSGML kigkonsult.se iCalcreator 2.30.10//
CALSCALE:GREGORIAN
METHOD:PUBLISH
UID:7343a023-2266-4d1d-8a5b-14126cad4aff
X-WR-CALDESC:Join us to participate or support us!\nUse this link to regist
 er or donate: https://raceroster.com/events/2024/89925/25th-annual-flutie-
 5k-for-autism/fundraising-organization/57625
X-WR-RELCALID:0e7252bfc705d03059140e8ec160e34b
X-WR-TIMEZONE:America/New_York
BEGIN:VTIMEZONE
TZID:America/New_York
BEGIN:STANDARD
TZNAME:EST
DTSTART:20231105T020000
TZOFFSETFROM:-0400
TZOFFSETTO:-0500
RDATE:20241103T020000
RDATE:20251102T020000
END:STANDARD
BEGIN:DAYLIGHT
TZNAME:EDT
DTSTART:20240310T020000
TZOFFSETFROM:-0500
TZOFFSETTO:-0400
RDATE:20250309T020000
RDATE:20260308T020000
END:DAYLIGHT
END:VTIMEZONE
BEGIN:VEVENT
UID:5b67dcb6-a4cc-4f94-856d-c74d28d0d557
DTSTAMP:20260423T030705Z
DESCRIPTION:Join us to participate or support us!\nUse this link to registe
 r or donate: https://raceroster.com/events/2024/89925/25th-annual-flutie-5
 k-for-autism/fundraising-organization/57625
DTSTART;TZID=America/New_York:20241027T100000
DTEND;TZID=America/New_York:20241027T150000
LOCATION:67 Union St\, Natick\, MA 01760 US
SUMMARY:Annual Arc Strong 5K: Flutie Partner 5K
END:VEVENT
END:VCALENDAR
