BEGIN:VCALENDAR
VERSION:2.0
PRODID:-//www.arcnbc.org//NONSGML kigkonsult.se iCalcreator 2.30.10//
CALSCALE:GREGORIAN
METHOD:PUBLISH
UID:a3e818b4-c042-4d22-a9ba-e6fb2f7822d7
X-WR-CALDESC:Join us at The Country Club of New Bedford for the 41st Annual
  Arc Charity State Representatives Cup!\nThe Arc of Greater New Bedford\, 
 a division of The Arc of Bristol County\, has continued to serve individua
 ls with intellectual and developmental disabilities and their families for
  over 65 years. The Arc provides Education Advocacy\, Adult Family Care\, 
 and Social Recreation Activities for individuals and families throughout t
 he greater New Bedford area.
X-WR-RELCALID:7fdc0e07568db78d1842d0bf609f301e
X-WR-TIMEZONE:America/New_York
BEGIN:VTIMEZONE
TZID:America/New_York
BEGIN:STANDARD
TZNAME:EST
DTSTART:20241103T020000
TZOFFSETFROM:-0400
TZOFFSETTO:-0500
RDATE:20251102T020000
RDATE:20261101T020000
END:STANDARD
BEGIN:DAYLIGHT
TZNAME:EDT
DTSTART:20250309T020000
TZOFFSETFROM:-0500
TZOFFSETTO:-0400
RDATE:20260308T020000
RDATE:20270314T020000
END:DAYLIGHT
END:VTIMEZONE
BEGIN:VEVENT
UID:25b685e4-7645-498c-b87e-16860a889326
DTSTAMP:20260423T011232Z
DESCRIPTION:Join us at The Country Club of New Bedford for the 41st Annual 
 Arc Charity State Representatives Cup!\nThe Arc of Greater New Bedford\, a
  division of The Arc of Bristol County\, has continued to serve individual
 s with intellectual and developmental disabilities and their families for 
 over 65 years. The Arc provides Education Advocacy\, Adult Family Care\, a
 nd Social Recreation Activities for individuals and families throughout th
 e greater New Bedford area.
DTSTART;TZID=America/New_York:20250922T060000
DTEND;TZID=America/New_York:20250922T060001
LOCATION:585 Slocum Rd\, North Dartmouth\, AL 02747 US
SUMMARY:42nd Annual Arc Charity State Representatives Cup
END:VEVENT
END:VCALENDAR
