BEGIN:VCALENDAR
VERSION:2.0
PRODID:-//www.arcnbc.org//NONSGML kigkonsult.se iCalcreator 2.30.10//
CALSCALE:GREGORIAN
METHOD:PUBLISH
UID:f42f983c-88c3-431d-a819-137c28d39565
X-WR-CALDESC:Join us at The Country Club of New Bedford for the 41st Annual
  Arc Charity State Representatives Cup!\nThe Arc of Greater New Bedford\, 
 a division of The Arc of Bristol County\, has continued to serve individua
 ls with intellectual and developmental disabilities and their families for
  over 65 years. The Arc provides Education Advocacy\, Adult Family Care\, 
 and Social Recreation Activities for individuals and families throughout t
 he greater New Bedford area.
X-WR-RELCALID:9633b9758fd2fb8eabbb21004edd07b7
X-WR-TIMEZONE:America/New_York
BEGIN:VTIMEZONE
TZID:America/New_York
BEGIN:STANDARD
TZNAME:EST
DTSTART:20251102T020000
TZOFFSETFROM:-0400
TZOFFSETTO:-0500
RDATE:20261101T020000
RDATE:20271107T020000
END:STANDARD
BEGIN:DAYLIGHT
TZNAME:EDT
DTSTART:20260308T020000
TZOFFSETFROM:-0500
TZOFFSETTO:-0400
RDATE:20270314T020000
RDATE:20280312T020000
END:DAYLIGHT
END:VTIMEZONE
BEGIN:VEVENT
UID:07782f77-a47e-4595-b319-4c122fd007cd
DTSTAMP:20260422T231748Z
DESCRIPTION:Join us at The Country Club of New Bedford for the 41st Annual 
 Arc Charity State Representatives Cup!\nThe Arc of Greater New Bedford\, a
  division of The Arc of Bristol County\, has continued to serve individual
 s with intellectual and developmental disabilities and their families for 
 over 65 years. The Arc provides Education Advocacy\, Adult Family Care\, a
 nd Social Recreation Activities for individuals and families throughout th
 e greater New Bedford area.
DTSTART;TZID=America/New_York:20260928T060000
DTEND;TZID=America/New_York:20260928T060001
LOCATION:585 Slocum Rd\, North Dartmouth\, MD 02747 US
SUMMARY:43rd Annual Arc Charity State Representatives Cup
END:VEVENT
END:VCALENDAR
